BEGIN:VCALENDAR
VERSION:2.0
PRODID:-//ChamberMaster//Event Calendar 2.0//EN
METHOD:PUBLISH
X-PUBLISHED-TTL:P3D
REFRESH-INTERVAL:P3D
CALSCALE:GREGORIAN
BEGIN:VEVENT
DTSTART:20260718T233000Z
DTEND:20260719T013000Z
X-MICROSOFT-CDO-ALLDAYEVENT:FALSE
SUMMARY:Bingo Night: July 18\, 2026
DESCRIPTION:Bingo Night  \n\nGrab your friends\, bring a group\, or come on your own and join us for a fun evening of bingo\, laughs\, and cash prizes. Whether you are a seasoned player or brand new to the game\, this is a great way to enjoy a night out in the community.\n\nEvent Details:\n\n  Saturday\, July 18\n\n  Hubbard Arts Center | 309 N. Woodlawn Blvd\n\n  6:30   8:30 PM (Doors open at 5:00 PM)\n\n  Must be 18 or older to attend\n\n  $20 Admission Includes:\n\n  3 Bingo cards per game (15 games total)\n\n  1 mini Bingo dauber\n\n  Opportunity to win cash prizes after each game\n\n  Advanced RSVP required\n\nAdditional Bingo cards for each game (15 games total) may be purchased for $15.\n\n  Grand Prize Game:\n\nStay for a special 16th grand prize game for $5 per card and a chance to win $500 in cash.\n\nSeats fill quickly\, so register early and join us for a fun night of bingo and prizes.\n\n  Concessions to be announced
X-ALT-DESC;FMTTYPE=text/html:<p data-end="108" data-start="85">&#127881\; <strong data-end="103" data-start="88">Bingo Night</strong> &#127881\;</p>\n\n<p data-end="347" data-start="110">Grab your friends\, bring a group\, or come on your own and join us for a fun evening of bingo\, laughs\, and cash prizes. Whether you are a seasoned player or brand new to the game\, this is a great way to enjoy a night out in the community.</p>\n\n<p data-end="540" data-start="349"><strong data-end="367" data-start="349">Event Details:</strong><br data-end="370" data-start="367" />\n&#128197\; Saturday\, July 18<br data-end="395" data-start="392" />\n&#128205\; Hubbard Arts Center | 309 N. Woodlawn Blvd<br data-end="462" data-start="459" />\n&#128353\; 6:30 &ndash\; 8:30 PM (Doors open at 5:00 PM)<br data-end="506" data-start="503" />\n&#128286\; Must be 18 or older to attend</p>\n\n<p data-end="720" data-start="542">&#127903\; <strong data-end="572" data-start="545">$20 Admission Includes:</strong><br data-end="575" data-start="572" />\n&bull\; 3 Bingo cards per game (15 games total)<br data-end="619" data-start="616" />\n&bull\; 1 mini Bingo dauber<br data-end="643" data-start="640" />\n&bull\; Opportunity to win cash prizes after each game<br data-end="694" data-start="691" />\n&bull\; Advanced RSVP required</p>\n\n<p data-end="801" data-start="722">Additional Bingo cards for each game (15 games total) may be purchased for $15.</p>\n\n<p data-end="920" data-start="803">&#127775\; <strong data-end="827" data-start="806">Grand Prize Game:</strong><br data-end="830" data-start="827" />\nStay for a special 16th grand prize game for $5 per card and a chance to win $500 in cash.</p>\n\n<p data-end="1008" data-start="922">Seats fill quickly\, so register early and join us for a fun night of bingo and prizes.</p>\n\n<p data-end="1245" data-start="1010">&#127871\; <strong data-end="1038" data-start="1013">Concessions to be announced</strong></p>\n
LOCATION:Hubbard Arts Center
UID:e.2401.3052
SEQUENCE:3
DTSTAMP:20260421T190029Z
URL:http://business.derbychamber.com/events/details/bingo-night-july-18-2026-3052
END:VEVENT

END:VCALENDAR
