BEGIN:VCALENDAR
VERSION:2.0
PRODID:-//ChamberMaster//Event Calendar 2.0//EN
METHOD:PUBLISH
X-PUBLISHED-TTL:P3D
REFRESH-INTERVAL:P3D
CALSCALE:GREGORIAN
BEGIN:VEVENT
DTSTART:20221205T230000Z
DTEND:20221206T010000Z
X-MICROSOFT-CDO-ALLDAYEVENT:FALSE
SUMMARY:Monday Mingle
DESCRIPTION:Join us at Kegler's Sports Bar & Grill for our monthly Monday Mingle! \n\nAppetizers will be provided and a cash bar will be available with $1.50 draws and $2.50 wells.
X-ALT-DESC;FMTTYPE=text/html:<div style="color: rgb(34\, 34\, 34)\; font-family: Roboto\, RobotoDraft\, Helvetica\, Arial\, sans-serif\; font-size: medium\;">\n<div class="ii gt" id=":67d" style="font-size: 0.875rem\; direction: ltr\; margin: 8px 0px 0px\; padding: 0px\; position: relative\;">\n<div class="a3s aiL " id=":67e" style="overflow: hidden\; font-variant-numeric: normal\; font-variant-east-asian: normal\; font-stretch: normal\; font-size: small\; line-height: 1.5\; font-family: Arial\, Helvetica\, sans-serif\;">\n<div style="font-variant-numeric: normal\; font-variant-east-asian: normal\; font-stretch: normal\; font-size: 10pt\; line-height: normal\; font-family: Arial\;">\n<div dir="ltr">\n<div dir="ltr">\n<div dir="ltr">\n<div dir="ltr">\n<div dir="ltr">\n<div dir="ltr">\n<div dir="ltr">\n<div dir="ltr">\n<div dir="ltr">\n<div dir="ltr">\n<div style="font-family: Arial\, Helvetica\, sans-serif\; font-size: 12.8px\;"><br />\n<span style="font-family:tahoma\;"><span style="font-size:14px\;"><span style="font-size:16px\;">Join us&nbsp\;at&nbsp\;Kegler&#39\;s Sports Bar &amp\; Grill&nbsp\;for our monthly Monday Mingle!<b>&nbsp\;</b><br />\nAppetizers will be provided and a cash bar will be available with $1.50 draws and $2.50 wells.</span></span></span></div>\n</div>\n</div>\n</div>\n</div>\n</div>\n</div>\n</div>\n</div>\n</div>\n</div>\n</div>\n</div>\n</div>\n</div>\n
LOCATION:Kegler's Sports Bar & Grill (inside Derby Bowl) 444 S. Baltimore
UID:e.2401.2675
SEQUENCE:3
DTSTAMP:20260422T105410Z
URL:http://business.derbychamber.com/events/details/monday-mingle-2675
END:VEVENT

END:VCALENDAR
