BEGIN:VCALENDAR
VERSION:2.0
PRODID:-//ChamberMaster//Event Calendar 2.0//EN
METHOD:PUBLISH
X-PUBLISHED-TTL:P3D
REFRESH-INTERVAL:P3D
CALSCALE:GREGORIAN
BEGIN:VEVENT
DTSTART:20260312T163000Z
DTEND:20260312T180000Z
X-MICROSOFT-CDO-ALLDAYEVENT:FALSE
SUMMARY:March Chamber Luncheon
DESCRIPTION:** LOCATION CHANGE ** \n\nPlease note that this luncheon\, and all upcoming luncheons until further notice\, will take place in the Venue at Madison Avenue Central Park.\n\n\nPROGRAM: \n\nChief Brandon Russell and Deputy Chief Lem Moore will share how the Derby Police Department intentionally shifted its internal culture\, resulting in stronger morale and higher retention\, by relying on Cultural Touchstones. They recently presented this program to the International Association of Chiefs of Police and will present it again to the Kansas Association of Chiefs in May.\n\nWhile their examples come from law enforcement\, the core concepts apply to any organization looking to strengthen workplace culture and teamwork. The Touchstones they'll discuss include: Service\, Professionalism\, Integrity\, Communication\, Empathy\, Compassion\, Resilience\, Accountability\, Family\, and Teamwork.\n\nWe hope you'll join us for this timely and practical discussion on culture change that translates to every workplace.\n\n\n\nCATERED BY: Poblano's Mexican Grill\n\n\n	Mexican bowl with choice of chicken or barbacoa\n	Chips and salsa\n\n\n\nRESERVATIONS: $17 per person\n\n\nAdvanced RSVP required by March 11 at Noon. \n\n \n\n\n** Cancellation / No Show Policy **\n\nCancellations must be made at least 24 hours in advance to receive a refund or credit. Late cancellations and no-shows will be charged the $17 lunch fee as a lunch has already been ordered.
X-ALT-DESC;FMTTYPE=text/html:<p><strong data-end="318" data-start="299">** LOCATION CHANGE **&nbsp\;</strong><br data-end="321" data-start="318" />\nPlease note that this luncheon\, and all upcoming luncheons until further notice\, will take place in the Venue at Madison Avenue Central Park.</p>\n\n<hr />\n<p><span style="font-size:16px\;"><span style="font-family:verdana\;"><span style="color: rgb(0\, 128\, 0)\;"><strong>PROGRAM:</strong></span><font color="#222222">&nbsp\;</font></span></span><!-- x-tinymce/html --></p>\n\n<p style="line-height: 130%\;">Chief Brandon Russell and Deputy Chief Lem Moore will share how the Derby Police Department intentionally shifted its internal culture\, resulting in stronger morale and higher retention\, by relying on Cultural Touchstones. They recently presented this program to the International Association of Chiefs of Police and will present it again to the Kansas Association of Chiefs in May.</p>\n\n<p style="line-height: 130%\;">While their examples come from law enforcement\, the core concepts apply to any organization looking to strengthen workplace culture and teamwork. The Touchstones they&rsquo\;ll discuss include:&nbsp\;<strong>Service\, Professionalism\, Integrity\, Communication\, Empathy\, Compassion\, Resilience\, Accountability\, Family\, and Teamwork.</strong></p>\n\n<p style="line-height: 130%\;">We hope you&rsquo\;ll join us for this timely and practical discussion on culture change that translates to every workplace.</p>\n\n<div style="font-family: Arial\, Helvetica\, sans-serif\; font-size: 12.8px\;">\n<hr />\n<p style="color: rgb(34\, 34\, 34)\; line-height: 130%\;"><span style="font-size:16px\;"><span style="font-family:verdana\;"><span style="color: rgb(0\, 128\, 0)\;"><strong>CATERED BY: </strong></span></span><span style="line-height: 16.8px\;">Poblano&#39\;s Mexican Grill</span></span></p>\n\n<ul>\n	<li style="color: rgb(34\, 34\, 34)\; line-height: 130%\;"><span style="font-size:16px\;">Mexican bowl with choice of chicken or barbacoa</span></li>\n	<li style="color: rgb(34\, 34\, 34)\; line-height: 130%\;"><span style="font-size:16px\;"><span style="line-height: 16.8px\;">Chips and salsa</span></span></li>\n</ul>\n\n<hr />\n<p style="color: rgb(34\, 34\, 34)\; line-height: 130%\;"><span style="font-size:16px\;"><span style="font-family:verdana\;"><span style="color: rgb(0\, 128\, 0)\;"><strong>RESERVATIONS:&nbsp\;</strong></span><span style="text-align: center\;" trebuchet="">$17&nbsp\;per person</span></span></span></p>\n</div>\n\n<p style="line-height: 130%\;"><span style="font-size:16px\;"><span style="font-family:verdana\;"><span style="color: rgb(224\, 62\, 45)\; line-height: 15.6px\;">Advanced RSVP required by March 11 at Noon.&nbsp\;</span></span></span><br />\n&nbsp\;</p>\n\n<hr />\n<p style="line-height: 130%\;"><span style="font-size:16px\;"><span style="font-family:verdana\;"><span style="line-height: 9px\;"><span style="color: #e03e2d\; line-height: 9px\;"><strong>** Cancellation / No Show Policy **</strong><br />\nCancellations must be made at least 24 hours in advance to receive a refund or credit.</span><span style="color: #e03e2d\; line-height: 9px\;">&nbsp\;Late cancellations and no-shows will be charged the $17&nbsp\;lunch fee as a lunch has already been ordered.&nbsp\;</span></span></span></span></p>\n
LOCATION:The Venue at Madison Avenue Central Park
UID:e.2401.3026
SEQUENCE:3
DTSTAMP:20260421T100803Z
URL:https://business.derbychamber.com/events/details/march-chamber-luncheon-3026
END:VEVENT

END:VCALENDAR
