BEGIN:VCALENDAR
VERSION:2.0
PRODID:-//ChamberMaster//Event Calendar 2.0//EN
METHOD:PUBLISH
X-PUBLISHED-TTL:P3D
REFRESH-INTERVAL:P3D
CALSCALE:GREGORIAN
BEGIN:VEVENT
DTSTART:20260302T233000Z
DTEND:20260303T003000Z
X-MICROSOFT-CDO-ALLDAYEVENT:FALSE
SUMMARY:Ribbon Cutting - The Carnahan Group
DESCRIPTION:Join us for a ribbon cutting ceremony to welcome The Carnahan Group to the Derby Chamber of Commerce!
X-ALT-DESC;FMTTYPE=text/html:<p data-end="417" data-start="143"><span style="font-size:16px\;"><span style="font-family:verdana\;">Join us for a ribbon cutting ceremony to welcome <strong>The Carnahan Group&nbsp\;</strong>to the Derby Chamber of Commerce!</span></span></p>\n
LOCATION:Let's Roll Derby - During the Monday Mingle event
UID:e.2401.3024
SEQUENCE:3
DTSTAMP:20260421T101719Z
URL:https://business.derbychamber.com/events/details/ribbon-cutting-the-carnahan-group-3024
END:VEVENT

END:VCALENDAR
